BEGIN:VCALENDAR
VERSION:2.0
PRODID:-//Test//NONSGML v1.0 //EN
BEGIN:VEVENT
UID:6257-2189-9037
DTSTAMP:20260421T141819Z
DTSTART;VALUE=DATE:20260430T200000
DTEND;VALUE=DATE:20260430T210000
SUMMARY:Breitensport-Apèro\nbis 30.04.2026 22:00
URL:https://www.rcblauweiss.ch/club/termine/?termin=breitensport-apero
END:VEVENT
END:VCALENDAR
